Package: SAIGEgds Version: 2.2.1 Command: /Library/Frameworks/R.framework/Resources/bin/R CMD INSTALL SAIGEgds StartedAt: 2024-03-03 15:09:35 -0500 (Sun, 03 Mar 2024) EndedAt: 2024-03-03 15:10:48 -0500 (Sun, 03 Mar 2024) EllapsedTime: 72.1 seconds RetCode: 0 Status: OK