Package: SAIGEgds Version: 2.2.0 Command: /home/biocbuild/R/R-4.3.1/bin/R CMD build --keep-empty-dirs --no-resave-data SAIGEgds StartedAt: 2023-11-02 05:38:31 -0000 (Thu, 02 Nov 2023) EndedAt: 2023-11-02 05:40:35 -0000 (Thu, 02 Nov 2023) EllapsedTime: 124.2 seconds RetCode: 0 Status: OK PackageFile: SAIGEgds_2.2.0.tar.gz PackageFileSize: 1.914 MiB