Package: S4Vectors Version: 0.40.2 Command: /home/biocbuild/bbs-3.18-bioc/R/bin/R CMD check --install=check:S4Vectors.install-out.txt --library=/home/biocbuild/bbs-3.18-bioc/R/site-library --timings S4Vectors_0.40.2.tar.gz StartedAt: 2024-04-16 03:21:42 -0400 (Tue, 16 Apr 2024) EndedAt: 2024-04-16 03:24:03 -0400 (Tue, 16 Apr 2024) EllapsedTime: 140.6 seconds RetCode: 0 Status: WARNINGS CheckDir: S4Vectors.Rcheck Warnings: 2