Package: S4Vectors Version: 0.40.2 Command: /Library/Frameworks/R.framework/Resources/bin/R CMD check --install=check:S4Vectors.install-out.txt --library=/Library/Frameworks/R.framework/Resources/library --no-vignettes --timings S4Vectors_0.40.2.tar.gz StartedAt: 2024-03-03 23:10:56 -0500 (Sun, 03 Mar 2024) EndedAt: 2024-03-03 23:12:58 -0500 (Sun, 03 Mar 2024) EllapsedTime: 122.5 seconds RetCode: 0 Status: WARNINGS CheckDir: S4Vectors.Rcheck Warnings: 2