Package: S4Vectors Version: 0.40.1 Command: /home/biocbuild/R/R-4.3.1/bin/R CMD check --install=check:S4Vectors.install-out.txt --library=/home/biocbuild/R/R-4.3.1/site-library --no-vignettes --timings S4Vectors_0.40.1.tar.gz StartedAt: 2023-11-02 14:00:28 -0000 (Thu, 02 Nov 2023) EndedAt: 2023-11-02 14:02:30 -0000 (Thu, 02 Nov 2023) EllapsedTime: 122.2 seconds RetCode: 0 Status: WARNINGS CheckDir: S4Vectors.Rcheck Warnings: 2