Package: S4Vectors Version: 0.40.1 Command: /home/biocbuild/R/R-4.3.1/bin/R CMD build --keep-empty-dirs --no-resave-data S4Vectors StartedAt: 2023-11-02 05:38:11 -0000 (Thu, 02 Nov 2023) EndedAt: 2023-11-02 05:39:40 -0000 (Thu, 02 Nov 2023) EllapsedTime: 89.1 seconds RetCode: 0 Status: OK PackageFile: S4Vectors_0.40.1.tar.gz PackageFileSize: 974.5 KiB