Package: S4Arrays Version: 1.2.1 Command: F:\biocbuild\bbs-3.18-bioc\R\bin\R.exe CMD INSTALL S4Arrays StartedAt: 2024-04-15 15:41:50 -0400 (Mon, 15 Apr 2024) EndedAt: 2024-04-15 15:42:20 -0400 (Mon, 15 Apr 2024) EllapsedTime: 29.8 seconds RetCode: 0 Status: OK