Package: S4Arrays Version: 1.2.1 Command: chmod a+r S4Arrays -R && F:\biocbuild\bbs-3.18-bioc\R\bin\R.exe CMD build --keep-empty-dirs --no-resave-data S4Arrays StartedAt: 2024-04-15 20:51:36 -0400 (Mon, 15 Apr 2024) EndedAt: 2024-04-15 20:52:13 -0400 (Mon, 15 Apr 2024) EllapsedTime: 37.8 seconds RetCode: 0 Status: OK PackageFile: S4Arrays_1.2.1.tar.gz PackageFileSize: 275.5 KiB