Package: S4Arrays Version: 1.2.1 Command: rm -rf S4Arrays.buildbin-libdir && mkdir S4Arrays.buildbin-libdir && F:\biocbuild\bbs-3.18-bioc\R\bin\R.exe CMD INSTALL --build --library=S4Arrays.buildbin-libdir S4Arrays_1.2.1.tar.gz StartedAt: 2024-04-16 07:36:57 -0400 (Tue, 16 Apr 2024) EndedAt: 2024-04-16 07:37:32 -0400 (Tue, 16 Apr 2024) EllapsedTime: 35.2 seconds RetCode: 0 Status: OK PackageFile: S4Arrays_1.2.1.zip PackageFileSize: 726.2 KiB