Package: S4Arrays Version: 1.2.1 Command: /Library/Frameworks/R.framework/Resources/bin/R CMD INSTALL S4Arrays StartedAt: 2024-04-15 15:10:29 -0400 (Mon, 15 Apr 2024) EndedAt: 2024-04-15 15:10:55 -0400 (Mon, 15 Apr 2024) EllapsedTime: 25.3 seconds RetCode: 0 Status: OK