Package: Rvisdiff Version: 1.0.0 Command: /home/biocbuild/R/R-4.3.1/bin/R CMD build --keep-empty-dirs --no-resave-data Rvisdiff StartedAt: 2023-11-02 05:37:38 -0000 (Thu, 02 Nov 2023) EndedAt: 2023-11-02 05:39:05 -0000 (Thu, 02 Nov 2023) EllapsedTime: 87.1 seconds RetCode: 0 Status: OK PackageFile: Rvisdiff_1.0.0.tar.gz PackageFileSize: 1.378 MiB