Package: Rtreemix Version: 1.64.0 Command: /home/biocbuild/bbs-3.18-bioc/R/bin/R CMD check --install=check:Rtreemix.install-out.txt --library=/home/biocbuild/bbs-3.18-bioc/R/site-library --timings Rtreemix_1.64.0.tar.gz StartedAt: 2024-04-16 03:19:32 -0400 (Tue, 16 Apr 2024) EndedAt: 2024-04-16 03:20:27 -0400 (Tue, 16 Apr 2024) EllapsedTime: 55.3 seconds RetCode: 0 Status: WARNINGS CheckDir: Rtreemix.Rcheck Warnings: 1