Package: Rtreemix Version: 1.64.0 Command: /home/biocbuild/R/R-4.3.1/bin/R CMD check --install=check:Rtreemix.install-out.txt --library=/home/biocbuild/R/R-4.3.1/site-library --no-vignettes --timings Rtreemix_1.64.0.tar.gz StartedAt: 2023-11-02 13:58:10 -0000 (Thu, 02 Nov 2023) EndedAt: 2023-11-02 13:59:15 -0000 (Thu, 02 Nov 2023) EllapsedTime: 65.1 seconds RetCode: 0 Status: WARNINGS CheckDir: Rtreemix.Rcheck Warnings: 1