Package: Rtpca Version: 1.12.0 Command: /home/biocbuild/bbs-3.18-bioc/R/bin/R CMD build --keep-empty-dirs --no-resave-data Rtpca StartedAt: 2024-04-15 18:58:43 -0400 (Mon, 15 Apr 2024) EndedAt: 2024-04-15 18:59:04 -0400 (Mon, 15 Apr 2024) EllapsedTime: 20.6 seconds RetCode: 0 Status: OK PackageFile: Rtpca_1.12.0.tar.gz PackageFileSize: 2.099 MiB