Package: RnaSeqSampleSize Version: 2.12.0 Command: /Library/Frameworks/R.framework/Resources/bin/R CMD INSTALL RnaSeqSampleSize StartedAt: 2024-03-03 15:42:56 -0500 (Sun, 03 Mar 2024) EndedAt: 2024-03-03 15:44:12 -0500 (Sun, 03 Mar 2024) EllapsedTime: 76.1 seconds RetCode: 0 Status: OK