Package: RnaSeqSampleSize Version: 2.12.0 Command: rm -rf RnaSeqSampleSize.buildbin-libdir && mkdir RnaSeqSampleSize.buildbin-libdir && /Users/biocbuild/BBS/utils/build-universal.sh RnaSeqSampleSize_2.12.0.tar.gz /Library/Frameworks/R.framework/Resources/bin/R RnaSeqSampleSize.buildbin-libdir StartedAt: 2024-03-04 01:00:53 -0500 (Mon, 04 Mar 2024) EndedAt: 2024-03-04 01:02:13 -0500 (Mon, 04 Mar 2024) EllapsedTime: 79.9 seconds RetCode: 0 Status: OK PackageFile: RnaSeqSampleSize_2.12.0.tgz PackageFileSize: 329.2 KiB