Package: RnBeads Version: 2.20.0 Command: /home/biocbuild/bbs-3.18-bioc/R/bin/R CMD check --install=check:RnBeads.install-out.txt --library=/home/biocbuild/bbs-3.18-bioc/R/site-library --timings RnBeads_2.20.0.tar.gz StartedAt: 2024-04-16 03:11:10 -0400 (Tue, 16 Apr 2024) EndedAt: 2024-04-16 03:22:43 -0400 (Tue, 16 Apr 2024) EllapsedTime: 693.8 seconds RetCode: 0 Status: OK CheckDir: RnBeads.Rcheck Warnings: 0