Package: RnBeads Version: 2.20.0 Command: /Library/Frameworks/R.framework/Resources/bin/R CMD INSTALL RnBeads StartedAt: 2024-04-15 16:33:47 -0400 (Mon, 15 Apr 2024) EndedAt: 2024-04-15 16:36:56 -0400 (Mon, 15 Apr 2024) EllapsedTime: 188.9 seconds RetCode: 0 Status: OK