Package: Rmmquant Version: 1.20.0 Command: chmod a+r Rmmquant -R && F:\biocbuild\bbs-3.18-bioc\R\bin\R.exe CMD build --keep-empty-dirs --no-resave-data Rmmquant StartedAt: 2024-04-15 20:44:02 -0400 (Mon, 15 Apr 2024) EndedAt: 2024-04-15 20:45:48 -0400 (Mon, 15 Apr 2024) EllapsedTime: 105.6 seconds RetCode: 0 Status: OK PackageFile: Rmmquant_1.20.0.tar.gz PackageFileSize: 45.35 KiB