Package: Rmmquant Version: 1.20.0 Command: /Library/Frameworks/R.framework/Resources/bin/R CMD build --keep-empty-dirs --no-resave-data Rmmquant StartedAt: 2024-04-15 21:21:34 -0400 (Mon, 15 Apr 2024) EndedAt: 2024-04-15 21:24:34 -0400 (Mon, 15 Apr 2024) EllapsedTime: 179.9 seconds RetCode: 0 Status: OK PackageFile: Rmmquant_1.20.0.tar.gz PackageFileSize: 45.1 KiB