Package: Ringo Version: 1.66.0 Command: /home/biocbuild/bbs-3.18-bioc/R/bin/R CMD INSTALL Ringo StartedAt: 2024-04-15 15:36:09 -0400 (Mon, 15 Apr 2024) EndedAt: 2024-04-15 15:36:38 -0400 (Mon, 15 Apr 2024) EllapsedTime: 28.3 seconds RetCode: 0 Status: OK