Package: Ringo Version: 1.66.0 Command: /home/biocbuild/bbs-3.18-bioc/R/bin/R CMD check --install=check:Ringo.install-out.txt --library=/home/biocbuild/bbs-3.18-bioc/R/site-library --timings Ringo_1.66.0.tar.gz StartedAt: 2024-04-16 03:03:24 -0400 (Tue, 16 Apr 2024) EndedAt: 2024-04-16 03:06:20 -0400 (Tue, 16 Apr 2024) EllapsedTime: 176.0 seconds RetCode: 0 Status: WARNINGS CheckDir: Ringo.Rcheck Warnings: 1