Package: Ringo Version: 1.66.0 Command: /home/biocbuild/bbs-3.18-bioc/R/bin/R CMD build --keep-empty-dirs --no-resave-data Ringo StartedAt: 2024-04-15 18:51:33 -0400 (Mon, 15 Apr 2024) EndedAt: 2024-04-15 18:52:12 -0400 (Mon, 15 Apr 2024) EllapsedTime: 38.3 seconds RetCode: 0 Status: OK PackageFile: Ringo_1.66.0.tar.gz PackageFileSize: 1.013 MiB