Package: Ringo Version: 1.66.0 Command: /Library/Frameworks/R.framework/Resources/bin/R CMD check --install=check:Ringo.install-out.txt --library=/Library/Frameworks/R.framework/Resources/library --no-vignettes --timings Ringo_1.66.0.tar.gz StartedAt: 2024-03-03 22:59:52 -0500 (Sun, 03 Mar 2024) EndedAt: 2024-03-03 23:03:02 -0500 (Sun, 03 Mar 2024) EllapsedTime: 190.6 seconds RetCode: 0 Status: WARNINGS CheckDir: Ringo.Rcheck Warnings: 1