Package: Ringo Version: 1.66.0 Command: /Library/Frameworks/R.framework/Resources/bin/R CMD build --keep-empty-dirs --no-resave-data Ringo StartedAt: 2024-03-03 18:02:16 -0500 (Sun, 03 Mar 2024) EndedAt: 2024-03-03 18:03:11 -0500 (Sun, 03 Mar 2024) EllapsedTime: 54.4 seconds RetCode: 0 Status: OK PackageFile: Ringo_1.66.0.tar.gz PackageFileSize: 1.292 MiB