Package: Ringo Version: 1.66.0 Command: rm -rf Ringo.buildbin-libdir && mkdir Ringo.buildbin-libdir && /Users/biocbuild/BBS/utils/build-universal.sh Ringo_1.66.0.tar.gz /Library/Frameworks/R.framework/Resources/bin/R Ringo.buildbin-libdir StartedAt: 2024-03-04 01:00:16 -0500 (Mon, 04 Mar 2024) EndedAt: 2024-03-04 01:01:02 -0500 (Mon, 04 Mar 2024) EllapsedTime: 46.3 seconds RetCode: 0 Status: OK PackageFile: Ringo_1.66.0.tgz PackageFileSize: 2.296 MiB