Package: Ringo Version: 1.66.0 Command: /home/biocbuild/R/R-4.3.1/bin/R CMD INSTALL Ringo StartedAt: 2023-11-01 20:44:59 -0000 (Wed, 01 Nov 2023) EndedAt: 2023-11-01 20:45:39 -0000 (Wed, 01 Nov 2023) EllapsedTime: 40.1 seconds RetCode: 0 Status: OK