Package: RiboProfiling Version: 1.32.0 Command: rm -rf RiboProfiling.buildbin-libdir && mkdir RiboProfiling.buildbin-libdir && F:\biocbuild\bbs-3.18-bioc\R\bin\R.exe CMD INSTALL --build --library=RiboProfiling.buildbin-libdir RiboProfiling_1.32.0.tar.gz StartedAt: 2024-04-16 07:33:23 -0400 (Tue, 16 Apr 2024) EndedAt: 2024-04-16 07:34:35 -0400 (Tue, 16 Apr 2024) EllapsedTime: 71.8 seconds RetCode: 0 Status: OK PackageFile: RiboProfiling_1.32.0.zip PackageFileSize: 4.512 MiB