Package: RiboProfiling Version: 1.32.0 Command: /home/biocbuild/bbs-3.18-bioc/R/bin/R CMD build --keep-empty-dirs --no-resave-data RiboProfiling StartedAt: 2024-04-15 18:51:00 -0400 (Mon, 15 Apr 2024) EndedAt: 2024-04-15 18:53:53 -0400 (Mon, 15 Apr 2024) EllapsedTime: 172.5 seconds RetCode: 0 Status: OK PackageFile: RiboProfiling_1.32.0.tar.gz PackageFileSize: 4.607 MiB