Package: RiboProfiling Version: 1.32.0 Command: /Library/Frameworks/R.framework/Resources/bin/R CMD check --install=check:RiboProfiling.install-out.txt --library=/Library/Frameworks/R.framework/Resources/library --no-vignettes --timings RiboProfiling_1.32.0.tar.gz StartedAt: 2024-03-03 22:58:47 -0500 (Sun, 03 Mar 2024) EndedAt: 2024-03-03 23:10:40 -0500 (Sun, 03 Mar 2024) EllapsedTime: 712.8 seconds RetCode: 0 Status: WARNINGS CheckDir: RiboProfiling.Rcheck Warnings: 1