Package: RiboProfiling Version: 1.32.0 Maintainer: A. Popa MaintainerEmail: alexandra.mariela.popa at gmail.com git_url: https://git.bioconductor.org/packages/RiboProfiling git_branch: RELEASE_3_18 git_last_commit: 8cec7bf git_last_commit_date: 2023-10-24 10:45:56 -0400 (Tue, 24 Oct 2023)