Package: RiboCrypt Version: 1.8.0 Command: /Library/Frameworks/R.framework/Resources/bin/R CMD build --keep-empty-dirs --no-resave-data RiboCrypt StartedAt: 2024-03-03 18:01:15 -0500 (Sun, 03 Mar 2024) EndedAt: 2024-03-03 18:02:57 -0500 (Sun, 03 Mar 2024) EllapsedTime: 101.8 seconds RetCode: 0 Status: OK PackageFile: RiboCrypt_1.8.0.tar.gz PackageFileSize: 5.657 MiB