Package: Rhtslib Version: 2.4.1 Command: set _R_INSTALL_TIME_PATCHES_=no&& rm -rf Rhtslib.buildbin-libdir && mkdir Rhtslib.buildbin-libdir && F:\biocbuild\bbs-3.18-bioc\R\bin\R.exe CMD INSTALL --build --library=Rhtslib.buildbin-libdir Rhtslib_2.4.1.tar.gz StartedAt: 2024-04-16 07:33:15 -0400 (Tue, 16 Apr 2024) EndedAt: 2024-04-16 07:34:37 -0400 (Tue, 16 Apr 2024) EllapsedTime: 81.6 seconds RetCode: 0 Status: OK PackageFile: Rhtslib_2.4.1.zip PackageFileSize: 5.751 MiB