Package: Rhtslib Version: 2.4.1 Command: /home/biocbuild/bbs-3.18-bioc/R/bin/R CMD INSTALL Rhtslib StartedAt: 2024-04-15 15:05:48 -0400 (Mon, 15 Apr 2024) EndedAt: 2024-04-15 15:07:04 -0400 (Mon, 15 Apr 2024) EllapsedTime: 76.6 seconds RetCode: 0 Status: OK