Package: Rhtslib Version: 2.4.0 Command: /home/biocbuild/R/R-4.3.1/bin/R CMD INSTALL Rhtslib StartedAt: 2023-11-01 20:03:42 -0000 (Wed, 01 Nov 2023) EndedAt: 2023-11-01 20:05:50 -0000 (Wed, 01 Nov 2023) EllapsedTime: 128.1 seconds RetCode: 0 Status: OK