Package: Rhtslib Version: 2.4.0 Command: /home/biocbuild/R/R-4.3.1/bin/R CMD build --keep-empty-dirs --no-resave-data Rhtslib StartedAt: 2023-11-02 05:15:05 -0000 (Thu, 02 Nov 2023) EndedAt: 2023-11-02 05:16:56 -0000 (Thu, 02 Nov 2023) EllapsedTime: 110.1 seconds RetCode: 0 Status: OK PackageFile: Rhtslib_2.4.0.tar.gz PackageFileSize: 4.391 MiB