Package: Rhdf5lib Version: 1.24.2 Command: /Library/Frameworks/R.framework/Resources/bin/R CMD INSTALL Rhdf5lib StartedAt: 2024-03-03 15:04:01 -0500 (Sun, 03 Mar 2024) EndedAt: 2024-03-03 15:10:17 -0500 (Sun, 03 Mar 2024) EllapsedTime: 375.6 seconds RetCode: 0 Status: OK