Package: Rhdf5lib Version: 1.24.2 Command: rm -rf Rhdf5lib.buildbin-libdir && mkdir Rhdf5lib.buildbin-libdir && /Users/biocbuild/BBS/utils/build-universal.sh Rhdf5lib_1.24.2.tar.gz /Library/Frameworks/R.framework/Resources/bin/R Rhdf5lib.buildbin-libdir StartedAt: 2024-03-04 00:59:49 -0500 (Mon, 04 Mar 2024) EndedAt: 2024-03-04 01:08:51 -0500 (Mon, 04 Mar 2024) EllapsedTime: 542.4 seconds RetCode: 0 Status: OK PackageFile: Rhdf5lib_1.24.2.tgz PackageFileSize: 9.635 MiB