Package: Rhdf5lib Version: 1.24.2 Maintainer: Mike Smith MaintainerEmail: grimbough at gmail.com git_url: https://git.bioconductor.org/packages/Rhdf5lib git_branch: RELEASE_3_18 git_last_commit: f4cab37 git_last_commit_date: 2024-02-07 04:27:56 -0400 (Wed, 07 Feb 2024)