Package: Rgraphviz Version: 2.46.0 Command: /Library/Frameworks/R.framework/Resources/bin/R CMD check --install=check:Rgraphviz.install-out.txt --library=/Library/Frameworks/R.framework/Resources/library --no-vignettes --timings Rgraphviz_2.46.0.tar.gz StartedAt: 2024-03-03 22:57:31 -0500 (Sun, 03 Mar 2024) EndedAt: 2024-03-03 22:58:26 -0500 (Sun, 03 Mar 2024) EllapsedTime: 54.5 seconds RetCode: 0 Status: WARNINGS CheckDir: Rgraphviz.Rcheck Warnings: 2