Package: RgnTX Version: 1.4.0 Command: F:\biocbuild\bbs-3.18-bioc\R\bin\R.exe CMD INSTALL RgnTX StartedAt: 2024-04-15 16:07:31 -0400 (Mon, 15 Apr 2024) EndedAt: 2024-04-15 16:08:24 -0400 (Mon, 15 Apr 2024) EllapsedTime: 52.7 seconds RetCode: 0 Status: OK