Package: RgnTX Version: 1.4.0 Command: F:\biocbuild\bbs-3.18-bioc\R\bin\R.exe CMD check --no-multiarch --install=check:RgnTX.install-out.txt --library=F:\biocbuild\bbs-3.18-bioc\R\library --no-vignettes --timings RgnTX_1.4.0.tar.gz StartedAt: 2024-04-16 04:20:42 -0400 (Tue, 16 Apr 2024) EndedAt: 2024-04-16 04:29:25 -0400 (Tue, 16 Apr 2024) EllapsedTime: 523.1 seconds RetCode: 0 Status: OK CheckDir: RgnTX.Rcheck Warnings: 0