Package: RgnTX Version: 1.4.0 Command: /Library/Frameworks/R.framework/Resources/bin/R CMD build --keep-empty-dirs --no-resave-data RgnTX StartedAt: 2024-04-15 21:16:45 -0400 (Mon, 15 Apr 2024) EndedAt: 2024-04-15 21:21:30 -0400 (Mon, 15 Apr 2024) EllapsedTime: 285.1 seconds RetCode: 0 Status: OK PackageFile: RgnTX_1.4.0.tar.gz PackageFileSize: 3.932 MiB