Package: RgnTX Version: 1.4.0 Command: /home/biocbuild/R/R-4.3.1/bin/R CMD check --install=check:RgnTX.install-out.txt --library=/home/biocbuild/R/R-4.3.1/site-library --no-vignettes --timings RgnTX_1.4.0.tar.gz StartedAt: 2023-11-02 13:41:39 -0000 (Thu, 02 Nov 2023) EndedAt: 2023-11-02 13:53:02 -0000 (Thu, 02 Nov 2023) EllapsedTime: 683.2 seconds RetCode: 0 Status: OK CheckDir: RgnTX.Rcheck Warnings: 0