Package: RgnTX Version: 1.4.0 Command: /home/biocbuild/R/R-4.3.1/bin/R CMD build --keep-empty-dirs --no-resave-data RgnTX StartedAt: 2023-11-02 05:10:46 -0000 (Thu, 02 Nov 2023) EndedAt: 2023-11-02 05:13:43 -0000 (Thu, 02 Nov 2023) EllapsedTime: 177.2 seconds RetCode: 0 Status: OK PackageFile: RgnTX_1.4.0.tar.gz PackageFileSize: 3.933 MiB