Package: ResidualMatrix Version: 1.12.0 Command: F:\biocbuild\bbs-3.18-bioc\R\bin\R.exe CMD INSTALL ResidualMatrix StartedAt: 2024-04-15 15:46:40 -0400 (Mon, 15 Apr 2024) EndedAt: 2024-04-15 15:47:06 -0400 (Mon, 15 Apr 2024) EllapsedTime: 26.6 seconds RetCode: 0 Status: OK