Package: ResidualMatrix Version: 1.12.0 Command: chmod a+r ResidualMatrix -R && F:\biocbuild\bbs-3.18-bioc\R\bin\R.exe CMD build --keep-empty-dirs --no-resave-data ResidualMatrix StartedAt: 2024-04-15 20:39:41 -0400 (Mon, 15 Apr 2024) EndedAt: 2024-04-15 20:42:43 -0400 (Mon, 15 Apr 2024) EllapsedTime: 182.5 seconds RetCode: 0 Status: OK PackageFile: ResidualMatrix_1.12.0.tar.gz PackageFileSize: 324.4 KiB