Package: ReportingTools Version: 2.42.3 Command: F:\biocbuild\bbs-3.18-bioc\R\bin\R.exe CMD check --no-multiarch --install=check:ReportingTools.install-out.txt --library=F:\biocbuild\bbs-3.18-bioc\R\library --no-vignettes --timings ReportingTools_2.42.3.tar.gz StartedAt: 2024-04-16 04:16:31 -0400 (Tue, 16 Apr 2024) EndedAt: 2024-04-16 04:29:41 -0400 (Tue, 16 Apr 2024) EllapsedTime: 789.9 seconds RetCode: 0 Status: OK CheckDir: ReportingTools.Rcheck Warnings: 0