Package: ReportingTools Version: 2.42.3 Command: chmod a+r ReportingTools -R && F:\biocbuild\bbs-3.18-bioc\R\bin\R.exe CMD build --keep-empty-dirs --no-resave-data ReportingTools StartedAt: 2024-04-15 20:39:08 -0400 (Mon, 15 Apr 2024) EndedAt: 2024-04-15 20:40:41 -0400 (Mon, 15 Apr 2024) EllapsedTime: 92.3 seconds RetCode: 0 Status: OK PackageFile: ReportingTools_2.42.3.tar.gz PackageFileSize: 1.79 MiB