Package: Repitools Version: 1.48.0 Command: rm -rf Repitools.buildbin-libdir && mkdir Repitools.buildbin-libdir && /Users/biocbuild/BBS/utils/build-universal.sh Repitools_1.48.0.tar.gz /Library/Frameworks/R.framework/Resources/bin/R Repitools.buildbin-libdir StartedAt: 2024-03-04 00:59:13 -0500 (Mon, 04 Mar 2024) EndedAt: 2024-03-04 01:00:24 -0500 (Mon, 04 Mar 2024) EllapsedTime: 70.9 seconds RetCode: 0 Status: OK PackageFile: Repitools_1.48.0.tgz PackageFileSize: 2.577 MiB